BEGIN:VCALENDAR
VERSION:2.0
PRODID:-//ChamberMaster//Event Calendar 2.0//EN
METHOD:PUBLISH
X-PUBLISHED-TTL:P3D
REFRESH-INTERVAL:P3D
CALSCALE:GREGORIAN
BEGIN:VEVENT
DTSTART:20100424T230000Z
DTEND:20100425T020000Z
X-MICROSOFT-CDO-ALLDAYEVENT:FALSE
SUMMARY:Kinder Key's ''Denim & Diamonds''
DESCRIPTION:Mix your jeans and your jeans for this casually elegant affair. Enjoy hors d'oeuvres\, signature martinis\, a live fashion show\, silent auction\, jewelry from Carioti Jewelers\, furs from Robert Scott Furs\, diamonds in our martini raffle and much more!
X-ALT-DESC;FMTTYPE=text/html:Mix your jeans and your jeans for this casually elegant affair. Enjoy hors d'oeuvres\, signature martinis\, a live fashion show\, silent auction\, jewelry from Carioti Jewelers\, furs from Robert Scott Furs\, diamonds in our martini raffle and much more! 
LOCATION:Martini Park at Easton
UID:e.304.575
SEQUENCE:3
DTSTAMP:20260421T071721Z
URL:https://cm.newalbanychamber.com/events/details/kinder-key-s-denim-diamonds-04-24-2010-575
END:VEVENT

END:VCALENDAR
