BEGIN:VCALENDAR
VERSION:2.0
PRODID:-//ChamberMaster//Event Calendar 2.0//EN
METHOD:PUBLISH
X-PUBLISHED-TTL:P3D
REFRESH-INTERVAL:P3D
CALSCALE:GREGORIAN
BEGIN:VEVENT
DTSTART:20090205T183000Z
DTEND:20090205T203000Z
X-MICROSOFT-CDO-ALLDAYEVENT:FALSE
SUMMARY:Knit In
DESCRIPTION:New Albany Knit In to be held\nat the New Albany Branch Library
X-ALT-DESC;FMTTYPE=text/html:New Albany Knit In to be held\nat the New Albany Branch Library
LOCATION:New Albany Library 200 Market Street New Albany\, Ohio 43054
UID:e.304.410
SEQUENCE:3
DTSTAMP:20260422T040441Z
URL:https://cm.newalbanychamber.com/events/details/knit-in-02-05-2009-410
END:VEVENT

END:VCALENDAR
