BEGIN:VCALENDAR
VERSION:2.0
PRODID:-//ChamberMaster//Event Calendar 2.0//EN
METHOD:PUBLISH
X-PUBLISHED-TTL:P3D
REFRESH-INTERVAL:P3D
CALSCALE:GREGORIAN
BEGIN:VEVENT
DTSTART:20110319T000000Z
DTEND:20110319T020000Z
X-MICROSOFT-CDO-ALLDAYEVENT:FALSE
SUMMARY:Kobie Boykins\, Lecturer/Space Exploration
DESCRIPTION:A dynamic young engineer at NASAâ??s Jet Propulsion Laboratory\, Kobie Boykins is on the frontline of Mars exploration. Boykins designed the solar arrays that power the remarkable Mars Expedition Rovers\, Spirit and Opportunity\, which continue to send back data from our nearest planetary neighbor more than six years after being deployed. He is currently working at NASAâ??s Mars Science Laboratory\, preparing the actuators for the next mission. Boykinsâ?? other projects have included work on the Mars Pathfinder mission and the Ocean Surface Topography Mission\, taking measurements by satellite of the Earthâ??s oceans. Visit http://www.mccoycenter.org/ for more info.
X-ALT-DESC;FMTTYPE=text/html:A dynamic young engineer at NASAâ??s Jet Propulsion Laboratory\, Kobie Boykins is on the frontline of Mars exploration. Boykins designed the solar arrays that power the remarkable Mars Expedition Rovers\, Spirit and Opportunity\, which continue to send back data from our nearest planetary neighbor more than six years after being deployed. He is currently working at NASAâ??s Mars Science Laboratory\, preparing the actuators for the next mission. Boykinsâ?? other projects have included work on the Mars Pathfinder mission and the Ocean Surface Topography Mission\, taking measurements by satellite of the Earthâ??s oceans. Visit http://www.mccoycenter.org/ for more info. \n<br>\n<br>
LOCATION:Jeanne B. McCoy Community Center for the Arts located at 100 W. Dublin-Granville Road New Albany\, OH 43054
UID:e.304.703
SEQUENCE:3
DTSTAMP:20260420T141706Z
URL:https://cm.newalbanychamber.com/events/details/kobie-boykins-lecturer-space-exploration-03-18-2011-703
END:VEVENT

END:VCALENDAR
