BEGIN:VCALENDAR
VERSION:2.0
PRODID:-//ChamberMaster//Event Calendar 2.0//EN
METHOD:PUBLISH
X-PUBLISHED-TTL:P3D
REFRESH-INTERVAL:P3D
CALSCALE:GREGORIAN
BEGIN:VEVENT
DTSTART:20100501T170000Z
DTEND:20100501T190000Z
X-MICROSOFT-CDO-ALLDAYEVENT:FALSE
SUMMARY:Kumon 2010 Award Ceremony
DESCRIPTION:Kumon 2010 Award Ceremony6015 E. Walunut StreetWesterville\, Ohio  43081
X-ALT-DESC;FMTTYPE=text/html:<div><strong><span style="font-size: x-small">Kumon 2010 Award Ceremony</span></strong></div><div><strong><span style="font-size: x-small">6015 E. Walunut Street</span></strong></div><div><strong><span style="font-size: x-small">Westerville\, Ohio&nbsp\; 43081</span></strong></div><div>&nbsp\;</div>
LOCATION:6015 E. Walnut St. Westerville\, Ohio
UID:e.304.628
SEQUENCE:3
DTSTAMP:20260421T053244Z
URL:https://cm.newalbanychamber.com/events/details/kumon-2010-award-ceremony-05-01-2010-628
END:VEVENT

END:VCALENDAR
