BEGIN:VCALENDAR
VERSION:2.0
PRODID:-//ChamberMaster//Event Calendar 2.0//EN
METHOD:PUBLISH
X-PUBLISHED-TTL:P3D
REFRESH-INTERVAL:P3D
CALSCALE:GREGORIAN
BEGIN:VEVENT
DTSTART:20110526T010000Z
DTEND:20110526T040000Z
X-MICROSOFT-CDO-ALLDAYEVENT:FALSE
SUMMARY:Ladies Night at Average Joe's
DESCRIPTION:Free Juke Box and drink specials from 9pm-midnight every Wednesdays!
X-ALT-DESC;FMTTYPE=text/html:Free Juke Box and drink specials from 9pm-midnight every Wednesdays!
LOCATION:Average Joe's Pub and Grill 4949 Dublin Granville Rd
UID:e.304.811
SEQUENCE:3
DTSTAMP:20260420T101540Z
URL:https://cm.newalbanychamber.com/events/details/ladies-night-at-average-joe-s-05-25-2011-811
END:VEVENT

END:VCALENDAR
