BEGIN:VCALENDAR
VERSION:2.0
PRODID:-//ChamberMaster//Event Calendar 2.0//EN
METHOD:PUBLISH
X-PUBLISHED-TTL:P3D
REFRESH-INTERVAL:P3D
CALSCALE:GREGORIAN
BEGIN:VEVENT
DTSTART:20110627T213000Z
DTEND:20110628T000000Z
X-MICROSOFT-CDO-ALLDAYEVENT:FALSE
SUMMARY:Ladies Night Out At Costco Wholesale
DESCRIPTION:Your Invited "Ladies Night Out At Costco Wholesale" leave the men at home and bring your girlfriends for this special event. Monday\, June 27\, 2011 from 5:30 p.m. to 8:00 p.m. at Costco Wholesale\, 1500 Gemini Place Columbus \, OH\, 43240. Refreshments will be served\, prizes and drawings. Music\, networking\, goodie bags. No membership is required to attend. For more information: Everitt Lilly at (614)987-1902 or email w632mkt04@costco.com This is a free event.
X-ALT-DESC;FMTTYPE=text/html:<p>\n	<br />\n	&nbsp\;</p>\n<p>\n	Your Invited &quot\;Ladies Night Out At Costco Wholesale&quot\; leave the men at home and bring your girlfriends for this special event. Monday\, June 27\, 2011 from 5:30 p.m. to 8:00 p.m. at Costco Wholesale\, 1500 Gemini Place Columbus \, OH\, 43240. Refreshments will be served\, prizes and drawings. Music\, networking\, goodie bags. No membership is required to attend. For more information: Everitt Lilly at (614)987-1902 or email w632mkt04@costco.com This is a free event.<br />\n	<br />\n	&nbsp\;</p>\n
LOCATION:Costco Wholesale 1500 Gemini Place\, Columbus ohio 43240
UID:e.304.812
SEQUENCE:3
DTSTAMP:20260420T084405Z
URL:https://cm.newalbanychamber.com/events/details/ladies-night-out-at-costco-wholesale-06-27-2011-812
END:VEVENT

END:VCALENDAR
