BEGIN:VCALENDAR
VERSION:2.0
PRODID:-//ChamberMaster//Event Calendar 2.0//EN
METHOD:PUBLISH
X-PUBLISHED-TTL:P3D
REFRESH-INTERVAL:P3D
CALSCALE:GREGORIAN
BEGIN:VEVENT
DTSTART;VALUE=DATE:20100331
DTEND;VALUE=DATE:20100401
TRANSP:TRANSPARENT
X-MICROSOFT-CDO-ALLDAYEVENT:TRUE
SUMMARY:Last day for Community Guide Ads!!
DESCRIPTION:Last Day to submit ads for the Community Guide.Contact Tommy Thompson at: 937-475-4597.
X-ALT-DESC;FMTTYPE=text/html:<div><span style="font-size: small"><strong>Last Day to submit ads for the Community Guide.</strong></span></div><div><span style="font-size: small"><strong>Contact Tommy Thompson at: 937-475-4597.</strong></span></div>
LOCATION:
UID:e.304.609
SEQUENCE:3
DTSTAMP:20260421T085130Z
URL:https://cm.newalbanychamber.com/events/details/last-day-for-community-guide-ads-03-31-2010-609
END:VEVENT

END:VCALENDAR
