BEGIN:VCALENDAR
VERSION:2.0
PRODID:-//ChamberMaster//Event Calendar 2.0//EN
METHOD:PUBLISH
X-PUBLISHED-TTL:P3D
REFRESH-INTERVAL:P3D
CALSCALE:GREGORIAN
BEGIN:VEVENT
DTSTART:20101108T003000Z
DTEND:20101108T023000Z
X-MICROSOFT-CDO-ALLDAYEVENT:FALSE
SUMMARY:LeAnn Rimes-RESCEDULED TO JANUARY 21ST
DESCRIPTION:In 1996\, LeAnn Rimes burst out of nowhere with her debut single â??Blue\,â?? which immediately capturing the attention of country fans across America. It wasnâ??t just the fact that her rich\, powerful vocals were remarkably similar to Patsy Cline â?? it was the fact that she was only 13 years old. Nominated for the Country Music Association Horizon award and the CMA Best Country Singer\, Rimes is the youngest singer in the history of the CMA awards to receive a nomination. LeAnnâ??s next album will be released in October 2010.
X-ALT-DESC;FMTTYPE=text/html:In 1996\, LeAnn Rimes burst out of nowhere with her debut single â??Blue\,â?? which immediately capturing the attention of country fans across America. It wasnâ??t just the fact that her rich\, powerful vocals were remarkably similar to Patsy Cline â?? it was the fact that she was only 13 years old. Nominated for the Country Music Association Horizon award and the CMA Best Country Singer\, Rimes is the youngest singer in the history of the CMA awards to receive a nomination. LeAnnâ??s next album will be released in October 2010.\n<br>\n<br>
LOCATION:Jeanne B. McCoy Community Center for the Arts located at 100 W. Dublin-Granville Road New Albany\, OH 43054
UID:e.304.701
SEQUENCE:3
DTSTAMP:20260420T194815Z
URL:https://cm.newalbanychamber.com/events/details/leann-rimes-resceduled-to-january-21st-11-07-2010-701
END:VEVENT

END:VCALENDAR
