BEGIN:VCALENDAR
VERSION:2.0
PRODID:-//ChamberMaster//Event Calendar 2.0//EN
METHOD:PUBLISH
X-PUBLISHED-TTL:P3D
REFRESH-INTERVAL:P3D
CALSCALE:GREGORIAN
BEGIN:VEVENT
DTSTART:20110122T010000Z
DTEND:20110122T030000Z
X-MICROSOFT-CDO-ALLDAYEVENT:FALSE
SUMMARY:LeeAnn Rimes at the McCoy Center
DESCRIPTION:In 1996\, LeAnn Rimes burst out of nowhere with her debut single\, which immediately capturing the attention of country fans across America. It wasn't just the fact that her rich\, powerful vocals were remarkably similar to Patsy Cline. It was the fact that she was only 13 years old. Nominated for the Country Music Association Horizon award and the CMA Best Country Singer\, Rimes is the youngest singer in the history of the CMA awards to receive a nomination. LeAnn 's next album will be released in October 2010.
X-ALT-DESC;FMTTYPE=text/html:In 1996\, LeAnn Rimes burst out of nowhere with her debut single\, which immediately capturing the attention of country fans across America. It wasn&#39\;t just the fact that her rich\, powerful vocals were remarkably similar to Patsy Cline. It was the fact that she was only 13 years old. Nominated for the Country Music Association Horizon award and the CMA Best Country Singer\, Rimes is the youngest singer in the history of the CMA awards to receive a nomination. LeAnn&acirc\;&#39\;s next album will be released in October 2010.<br />\n
LOCATION:McCoy Center for the Arts
UID:e.304.724
SEQUENCE:3
DTSTAMP:20260420T162229Z
URL:https://cm.newalbanychamber.com/events/details/leeann-rimes-at-the-mccoy-center-01-21-2011-724
END:VEVENT

END:VCALENDAR
