BEGIN:VCALENDAR
VERSION:2.0
PRODID:-//ChamberMaster//Event Calendar 2.0//EN
METHOD:PUBLISH
X-PUBLISHED-TTL:P3D
REFRESH-INTERVAL:P3D
CALSCALE:GREGORIAN
BEGIN:VEVENT
DTSTART:20100210T170000Z
DTEND:20100210T180000Z
X-MICROSOFT-CDO-ALLDAYEVENT:FALSE
SUMMARY:Lunch & Learn Workshop
DESCRIPTION:Lunch & Learn Workshop"Secret to Great Health"sponsored by Ohio Family & Sports ChiropracticDr. Greg Prenger Cost: $8.00Box Lunch will be provided
X-ALT-DESC;FMTTYPE=text/html:<div><strong><span style="font-size: x-small">Lunch &amp\; Learn Workshop</span></strong></div><div><strong><span style="font-size: x-small">&quot\;Secret to Great Health&quot\;</span></strong></div><div><strong><span style="font-size: x-small">sponsored by Ohio Family &amp\; Sports Chiropractic</span></strong></div><div><strong><span style="font-size: x-small">Dr. Greg Prenger</span></strong></div><div>&nbsp\;</div><div><strong><span style="font-size: x-small">Cost: $8.00</span></strong></div><div><strong><span style="font-size: x-small">Box Lunch will be provided</span></strong></div>
LOCATION:New Albany Chamber Office220 Market Street\, Suite 204New Albany\, OH
UID:e.304.555
SEQUENCE:3
DTSTAMP:20260421T113837Z
URL:https://cm.newalbanychamber.com/events/details/lunch-learn-workshop-02-10-2010-555
END:VEVENT

END:VCALENDAR
