BEGIN:VCALENDAR
VERSION:2.0
PRODID:-//ChamberMaster//Event Calendar 2.0//EN
METHOD:PUBLISH
X-PUBLISHED-TTL:P3D
REFRESH-INTERVAL:P3D
CALSCALE:GREGORIAN
BEGIN:VEVENT
DTSTART;VALUE=DATE:20080524
DTEND;VALUE=DATE:20080525
TRANSP:TRANSPARENT
X-MICROSOFT-CDO-ALLDAYEVENT:TRUE
SUMMARY:Madisons Foundation Event
DESCRIPTION:This year's "Kids for Kids" initiative is centered around families and children.  With the gracious support from Tween Brands\, over the Memorial Day Weekend of 2008\, Madisons Foundation will conduct a fun filled day with the family culminating in a Tween Premiere Movie.  The Tween star Roxy Hunter will appear in person to sign autographs prior to the showing of the premire.  Proceeds will go to rare disease research at Children's Hospital in Columubs and to the further development of the foundation web site to meet the demand and prevent it from crashing.
X-ALT-DESC;FMTTYPE=text/html:<div>This year&#39\;s &quot\;Kids for Kids&quot\; initiative is centered around families and children.&nbsp\; With the gracious support from Tween Brands\, over the Memorial Day Weekend of 2008\, Madisons Foundation will conduct a fun filled day with the family culminating in a Tween Premiere Movie.&nbsp\; The Tween star Roxy Hunter will appear in person to sign autographs prior to the showing of the premire.&nbsp\; Proceeds will go to rare disease research at Children&#39\;s Hospital in Columubs and to the further development of the foundation web site to meet the demand and prevent it from crashing.</div>\n
LOCATION:Plain Township Community Pool 7650 Swichard Woods New Albany\, OH 43054
UID:e.304.190
SEQUENCE:3
DTSTAMP:20260422T174628Z
URL:https://cm.newalbanychamber.com/events/details/madisons-foundation-event-05-24-2008-190
END:VEVENT

END:VCALENDAR
