BEGIN:VCALENDAR
VERSION:2.0
PRODID:-//ChamberMaster//Event Calendar 2.0//EN
METHOD:PUBLISH
X-PUBLISHED-TTL:P3D
REFRESH-INTERVAL:P3D
CALSCALE:GREGORIAN
BEGIN:VEVENT
DTSTART:20090320T033000Z
DTEND:20090319T170000Z
X-MICROSOFT-CDO-ALLDAYEVENT:FALSE
SUMMARY:March Chamber Meeting-Note location change
DESCRIPTION:The New Albany Chamber of Commerce invites you to attend our monthly chamber event that will be held on Thursday\, March 19 of 2009 at the New Albany Country Club. It is located at One Club Lane\, just off of Rt. 62 in New Albany\, 43054. "THE NEW ALBANY REAL ESTATE MARKET".  New Albany member realtors from the New Albany Realty Association will present top home improvement for preparing for sale\, how to obtain your best value in a purchase\, and the housing options in New Albany.  Monthly Chamber Sponsor:  Sugar Run at New Albany Apartments\, 5501 New Albany Rd. E.\, New Albany\, Ohio. Phone:  614-775-0100. Guests can also register for a community tour which will be conducted after the meeting and will last approximately one hour.
X-ALT-DESC;FMTTYPE=text/html:<div>The New Albany Chamber of Commerce invites you to attend our monthly chamber event that will be held on Thursday\, March 19 of 2009 at the New Albany Country Club. It is located at&nbsp\;One Club Lane\, just off of Rt. 62&nbsp\;in New Albany\, 43054.&nbsp\;&quot\;THE NEW ALBANY REAL ESTATE MARKET&quot\;.&nbsp\; New Albany member realtors from the New Albany Realty Association will present top home improvement for preparing for sale\, how to obtain your best value in a purchase\, and the housing options in New Albany.&nbsp\;</div><div>&nbsp\;</div><div><strong><u>Monthly Chamber Sponsor:</u></strong>&nbsp\; Sugar Run at New Albany Apartments\, 5501 New Albany Rd. E.\, New Albany\, Ohio. Phone:&nbsp\; 614-775-0100.</div><div>&nbsp\;</div><div>Guests can also register for a community tour which will be conducted after the meeting and will last approximately one hour.</div>
LOCATION:On Club LaneNew Albany\, Ohio 43054
UID:e.304.296
SEQUENCE:3
DTSTAMP:20260422T022607Z
URL:https://cm.newalbanychamber.com/events/details/march-chamber-meeting-note-location-change-03-19-2009-296
END:VEVENT

END:VCALENDAR
