BEGIN:VCALENDAR
VERSION:2.0
PRODID:-//ChamberMaster//Event Calendar 2.0//EN
METHOD:PUBLISH
X-PUBLISHED-TTL:P3D
REFRESH-INTERVAL:P3D
CALSCALE:GREGORIAN
BEGIN:VEVENT
DTSTART;VALUE=DATE:20080729
DTEND;VALUE=DATE:20080730
TRANSP:TRANSPARENT
X-MICROSOFT-CDO-ALLDAYEVENT:TRUE
SUMMARY:Margaritas and Mojitos on the Patio
DESCRIPTION:The New Albany Women's Network invites you to attend "Margaritas and Mojitos on the Patio" Tuesday\, July 29th at 6:30 pm. It will be held at the home of Tonya Petrucci at 7063 Maynard Place East in New Albany. Please bring a Mexican or Spanish inspired appetizer or dessert to share. Enjoy a relaxing evening outside while sipping a delicious summer drink. Please RSVP to social@NAWN.org by July 24th.
X-ALT-DESC;FMTTYPE=text/html:<div>The New Albany Women's Network invites you to attend &quot\;Margaritas and Mojitos on the Patio&quot\; Tuesday\, July 29th at 6:30 pm. It will be held at the home of Tonya Petrucci at 7063 Maynard Place East in New Albany. Please bring a Mexican or Spanish inspired appetizer or dessert to share. Enjoy a relaxing evening outside while sipping a delicious summer drink. Please RSVP to <a href="mailto:social@NAWN.org">social@NAWN.org</a>&nbsp\;by July 24th.&nbsp\;</div>
LOCATION:
UID:e.304.247
SEQUENCE:3
DTSTAMP:20260422T143921Z
URL:https://cm.newalbanychamber.com/events/details/margaritas-and-mojitos-on-the-patio-07-29-2008-247
END:VEVENT

END:VCALENDAR
