BEGIN:VCALENDAR
VERSION:2.0
PRODID:-//ChamberMaster//Event Calendar 2.0//EN
METHOD:PUBLISH
X-PUBLISHED-TTL:P3D
REFRESH-INTERVAL:P3D
CALSCALE:GREGORIAN
BEGIN:VEVENT
DTSTART:20080823T140000Z
DTEND:20080823T170000Z
X-MICROSOFT-CDO-ALLDAYEVENT:FALSE
SUMMARY:Market Day
DESCRIPTION:Market Day Schedule for Saturday\, August 23rdJazz Pianist: Devon Applewhite 10-1Summer Crafts and VendorsRusty Bucket--Gary's MargaritasPatriotic Root Beer FloatsLocal Authors and book products Vendor applications are available...
X-ALT-DESC;FMTTYPE=text/html:<p><font size="4"><font color="#000080">Market Day Schedule for <strong>Saturday\, August 23rd</strong></font></font></p><div><font color="#000080">Jazz Pianist: Devon Applewhite 10-1</font></div><div><font color="#000080">Summer Crafts and Vendors</font></div><div><font color="#000080">Rusty Bucket--Gary's Margaritas</font></div><div><font color="#000080">Patriotic Root Beer Floats</font></div><div><font color="#000080">Local Authors and book products</font></div><div>&nbsp\;</div><div><font color="#000080">Vendor applications are available...</font></div>
LOCATION:Market Square
UID:e.304.250
SEQUENCE:3
DTSTAMP:20260422T131231Z
URL:https://cm.newalbanychamber.com/events/details/market-day-08-23-2008-250
END:VEVENT

END:VCALENDAR
