BEGIN:VCALENDAR
VERSION:2.0
PRODID:-//ChamberMaster//Event Calendar 2.0//EN
METHOD:PUBLISH
X-PUBLISHED-TTL:P3D
REFRESH-INTERVAL:P3D
CALSCALE:GREGORIAN
BEGIN:VEVENT
DTSTART:20080607T140000Z
DTEND:20080607T170000Z
X-MICROSOFT-CDO-ALLDAYEVENT:FALSE
SUMMARY:Market Days
DESCRIPTION:Market Days 2008 will be held in the beautiful area of Market Square. It is run by the New Albany Chamber and will occur every Saturday from June through August. There will be fun and exciting events\, including a human chess tournament with local families dressed in costumes\, occuring each Market Day at noon. All members of the community are encouraged to witness this comical event\, browse a variety of vendors\, shops\, and participate in other fun activities from opportunities such as free book-swaps to meeting Celebrity waiters in local restaurants.  Vendor registration forms are available... Vendor Registration Form
X-ALT-DESC;FMTTYPE=text/html:<div><font color="#000080" size="3">Market Days 2008 will be held in the beautiful area&nbsp\;of Market Square. It is run by the New Albany Chamber and will occur every Saturday from June through August. There will be fun and exciting events\, including&nbsp\;a human chess tournament with local families&nbsp\;dressed in costumes\,&nbsp\;occuring each Market Day at noon. All members of the community are encouraged to witness this comical event\, browse a variety of vendors\, shops\,&nbsp\;and participate in other fun activities from opportunities such as free book-swaps to meeting Celebrity waiters in local restaurants. </font></div><div>&nbsp\;</div><div><font color="#000080" size="3">Vendor registration forms are available...</font></div><div>&nbsp\;</div><div><a href="https://secure.chambermaster.com/FCKeditor/UserFiles/chambers/304/File/2008%20Vendor%20Application.pdf">Vendor Registration Form</a></div>
LOCATION:Located in Market Square
UID:e.304.228
SEQUENCE:3
DTSTAMP:20260422T173010Z
URL:https://cm.newalbanychamber.com/events/details/market-days-06-07-2008-228
END:VEVENT

END:VCALENDAR
