BEGIN:VCALENDAR
VERSION:2.0
PRODID:-//ChamberMaster//Event Calendar 2.0//EN
METHOD:PUBLISH
X-PUBLISHED-TTL:P3D
REFRESH-INTERVAL:P3D
CALSCALE:GREGORIAN
BEGIN:VEVENT
DTSTART:20080802T140000Z
DTEND:20080802T180000Z
X-MICROSOFT-CDO-ALLDAYEVENT:FALSE
SUMMARY:Market Days
DESCRIPTION:Market Day Schedule of Events for Saturday\, August 2nd Summer Sidewalk SalesDJ in the SquareSummer Crafts and VendorsFresh ProduceYouth Fundraiser for Nationwide Children's Hospital If you are interested in becoming a vendor...Vendor registration forms are available:Vendor Registration Form
X-ALT-DESC;FMTTYPE=text/html:<div><font color="#000080"><font size="4">Market Day Schedule of Events for <strong>Saturday\, August 2nd</strong></font></font></div><div>&nbsp\;</div><div><font color="#000080">Summer Sidewalk Sales</font></div><div><font color="#000080">DJ in the Square</font></div><div><font color="#000080">Summer Crafts and Vendors</font></div><div><font color="#000080">Fresh Produce</font></div><div><font color="#000080">Youth Fundraiser for Nationwide Children's Hospital</font></div><div>&nbsp\;</div><div><font color="#000080" size="2">If you are interested in becoming a vendor...</font></div><div><font color="#000080" size="3">Vendor registration forms are available:</font></div><div><a href="https://secure.chambermaster.com/FCKeditor/UserFiles/chambers/304/File/2008%20Vendor%20Application.pdf">Vendor Registration Form</a></div>
LOCATION:Located in Market Square
UID:e.304.236
SEQUENCE:3
DTSTAMP:20260422T143534Z
URL:https://cm.newalbanychamber.com/events/details/market-days-08-02-2008-236
END:VEVENT

END:VCALENDAR
