BEGIN:VCALENDAR
VERSION:2.0
PRODID:-//ChamberMaster//Event Calendar 2.0//EN
METHOD:PUBLISH
X-PUBLISHED-TTL:P3D
REFRESH-INTERVAL:P3D
CALSCALE:GREGORIAN
BEGIN:VEVENT
DTSTART:20080809T140000Z
DTEND:20080809T180000Z
X-MICROSOFT-CDO-ALLDAYEVENT:FALSE
SUMMARY:Market Days
DESCRIPTION:Market Day Schedule of Events for Saturday\, August 9th DJ in the SquareSummer Crafts and VendorsPurchase Taste of NA TicketsGary's Margaritas at Rusty BucketLocal Authors and book ProductsChildren's balloon artist 11-noon If you are interested in becoming a vendor...Vendor registration forms are available: Vendor Registration Form
X-ALT-DESC;FMTTYPE=text/html:<div><font color="#000080" size="4">Market Day Schedule of Events for <strong>Saturday\, August 9th</strong></font></div><div>&nbsp\;</div><div><font color="#000080" size="3">DJ in the Square</font></div><div><font color="#000080" size="3">Summer Crafts and Vendors</font></div><div><font color="#000080" size="3">Purchase Taste of NA Tickets</font></div><div><font color="#000080" size="3">Gary's Margaritas at Rusty Bucket</font></div><div><font color="#000080" size="3">Local Authors and book Products</font></div><div><font color="#000080" size="3">Children's balloon artist 11-noon</font></div><div>&nbsp\;</div><div><font color="#000080" size="2">If you are interested in becoming a vendor...</font></div><div><font color="#000080" size="3">Vendor registration forms are available:</font></div><div>&nbsp\;</div><div><a href="https://secure.chambermaster.com/FCKeditor/UserFiles/chambers/304/File/2008%20Vendor%20Application.pdf">Vendor Registration Form</a></div>
LOCATION:Located in Market Square
UID:e.304.237
SEQUENCE:3
DTSTAMP:20260422T143609Z
URL:https://cm.newalbanychamber.com/events/details/market-days-08-09-2008-237
END:VEVENT

END:VCALENDAR
