BEGIN:VCALENDAR
VERSION:2.0
PRODID:-//ChamberMaster//Event Calendar 2.0//EN
METHOD:PUBLISH
X-PUBLISHED-TTL:P3D
REFRESH-INTERVAL:P3D
CALSCALE:GREGORIAN
BEGIN:VEVENT
DTSTART:20080816T140000Z
DTEND:20080816T180000Z
X-MICROSOFT-CDO-ALLDAYEVENT:FALSE
SUMMARY:Market Days
DESCRIPTION:Market Day Events for Saturday\, August 16th Youth Carwash- benefiting the NAHS Marching BandSummer Crafts and VendorsPurchase Tast of NA tickets              Taste of New Albany August 17thDJ in the SquareCereal Box Castle Building Vendor registration forms are available... Vendor Registration Form
X-ALT-DESC;FMTTYPE=text/html:<div><font color="#000080"><font size="4">Market Day Events for <strong>Saturday\, August 16th</strong></font></font></div><div><font color="#000080">&nbsp\;</font></div><div><font color="#000080" size="3">Youth Carwash- benefiting the NAHS Marching Band</font></div><div><font color="#000080" size="3">Summer Crafts and Vendors</font></div><div><font color="#000080" size="3">Purchase Tast of NA tickets</font></div><div><font color="#000080" size="3">&nbsp\;&nbsp\;&nbsp\;&nbsp\;&nbsp\;&nbsp\;&nbsp\;&nbsp\;&nbsp\;&nbsp\;&nbsp\;&nbsp\;&nbsp\; Taste of New Albany August 17th</font></div><div><font color="#000080" size="3">DJ in the Square</font></div><div><font color="#000080" size="3">Cereal Box Castle Building</font></div><div>&nbsp\;</div><div><font color="#000080" size="3">Vendor registration forms are available...</font></div><div>&nbsp\;</div><div><a href="https://secure.chambermaster.com/FCKeditor/UserFiles/chambers/304/File/2008%20Vendor%20Application.pdf">Vendor Registration Form</a></div>
LOCATION:Located in Market Square
UID:e.304.238
SEQUENCE:3
DTSTAMP:20260422T131128Z
URL:https://cm.newalbanychamber.com/events/details/market-days-08-16-2008-238
END:VEVENT

END:VCALENDAR
