BEGIN:VCALENDAR
VERSION:2.0
PRODID:-//ChamberMaster//Event Calendar 2.0//EN
METHOD:PUBLISH
X-PUBLISHED-TTL:P3D
REFRESH-INTERVAL:P3D
CALSCALE:GREGORIAN
BEGIN:VEVENT
DTSTART;VALUE=DATE:20090119
DTEND;VALUE=DATE:20090120
TRANSP:TRANSPARENT
X-MICROSOFT-CDO-ALLDAYEVENT:TRUE
SUMMARY:Martin Luther King Day...No School for New Albany
DESCRIPTION:
X-ALT-DESC;FMTTYPE=text/html:
LOCATION:
UID:e.304.274
SEQUENCE:3
DTSTAMP:20260422T071237Z
URL:https://cm.newalbanychamber.com/events/details/martin-luther-king-day-no-school-for-new-albany-01-19-2009-274
END:VEVENT

END:VCALENDAR
