BEGIN:VCALENDAR
VERSION:2.0
PRODID:-//ChamberMaster//Event Calendar 2.0//EN
METHOD:PUBLISH
X-PUBLISHED-TTL:P3D
REFRESH-INTERVAL:P3D
CALSCALE:GREGORIAN
BEGIN:VEVENT
DTSTART:20100923T230000Z
DTEND:20100924T010000Z
X-MICROSOFT-CDO-ALLDAYEVENT:FALSE
SUMMARY:Martini Tasting and NAWN Membership Drive
DESCRIPTION:
X-ALT-DESC;FMTTYPE=text/html:
LOCATION:Rusty Bucket\, New Albany
UID:e.304.691
SEQUENCE:3
DTSTAMP:20260420T235514Z
URL:https://cm.newalbanychamber.com/events/details/martini-tasting-and-nawn-membership-drive-09-23-2010-691
END:VEVENT

END:VCALENDAR
