BEGIN:VCALENDAR
VERSION:2.0
PRODID:-//ChamberMaster//Event Calendar 2.0//EN
METHOD:PUBLISH
X-PUBLISHED-TTL:P3D
REFRESH-INTERVAL:P3D
CALSCALE:GREGORIAN
BEGIN:VEVENT
DTSTART:20090521T114500Z
DTEND:20090521T130000Z
X-MICROSOFT-CDO-ALLDAYEVENT:FALSE
SUMMARY:May Chamber Meeting 2009
DESCRIPTION:May Meeting flyer:  May Meeting Flyer The New Albany Chamber of Commerce invites you to attend our monthly chamber event that will be held on Thursday\, May 21\, of 2009. Breakfast for this event will be held at Cap City Diner located at 1301 Stoneridge Drive in Gahanna\, 43230. Topic:  Survive & Thrive with guest speaker-Cheryl Bassitt. This meeting will encompass learning how to take ownership\, learning about philosophies for lasting change\, and the importance of connecting a heatly mind\, healthy body and healthy finances. Meeting Sponsor:  Concord Counseling Services\, 774 Park Meadow Rd.\, Westerville\, Oh 43081.
X-ALT-DESC;FMTTYPE=text/html:<div align="center">May Meeting flyer:&nbsp\;&nbsp\;<a href="https://secure.chambermaster.com/FCKeditor/UserFiles/chambers/304/File/May%20meeting%20flyer09.pdf">May Meeting Flyer</a></div><div align="center">&nbsp\;</div><div>The New Albany Chamber of Commerce invites you to attend our monthly chamber event that will be held on Thursday\, May 21\,&nbsp\;of 2009. Breakfast for this event will be held at Cap City Diner located at 1301 Stoneridge Drive in Gahanna\, 43230.&nbsp\;</div><div>Topic:&nbsp\; Survive &amp\; Thrive with guest speaker-Cheryl Bassitt. This meeting will encompass learning how to take ownership\, learning about philosophies for lasting change\, and the importance of connecting a heatly mind\, healthy body and healthy finances.</div><div>&nbsp\;</div><div>Meeting Sponsor:&nbsp\; Concord Counseling Services\, 774 Park Meadow Rd.\, Westerville\, Oh 43081.</div><div>&nbsp\;</div>
LOCATION:Cap City Diner1301 Stoneridge Drive\, Stoneridge PlazaGahanna\, Ohio 43230
UID:e.304.345
SEQUENCE:3
DTSTAMP:20260421T232659Z
URL:https://cm.newalbanychamber.com/events/details/may-chamber-meeting-2009-05-21-2009-345
END:VEVENT

END:VCALENDAR
