BEGIN:VCALENDAR
VERSION:2.0
PRODID:-//ChamberMaster//Event Calendar 2.0//EN
METHOD:PUBLISH
X-PUBLISHED-TTL:P3D
REFRESH-INTERVAL:P3D
CALSCALE:GREGORIAN
BEGIN:VEVENT
DTSTART;VALUE=DATE:20080219
DTEND;VALUE=DATE:20080225
TRANSP:TRANSPARENT
X-MICROSOFT-CDO-ALLDAYEVENT:TRUE
SUMMARY:McCoy Community Center for the Arts Opening
DESCRIPTION:Opening Week Activities of the McCoy Community Center for the Arts.\nTuesday\, Feb. 19th: Tours for Teachers and staff of New Albany Schools.\nWednesday\, Feb. 20th  4 p.m.-Formal Dedication of the Center\nThursday\, Feb. 21st\, 5 & 8 p.m. School Showcase featuring New Albany Students\nFriday\, Feb. 22nd\, 5 & 8 p.m.  School Showcase featuring New Albany Students\nSaturday\, Feb. 23rd 8 p.m. Gala Performance featuring an Evening with Patti Lupone & Mandy Patinkin.\nSunday\, Feb. 24th 3 & 7 p.m. New Albany Shines! featuring talent from across our community.
X-ALT-DESC;FMTTYPE=text/html:Opening Week Activities of the McCoy Community Center for the Arts.\nTuesday\, Feb. 19th: Tours for Teachers and staff of New Albany Schools.\nWednesday\, Feb. 20th  4 p.m.-Formal Dedication of the Center\nThursday\, Feb. 21st\, 5 & 8 p.m. School Showcase featuring New Albany Students\nFriday\, Feb. 22nd\, 5 & 8 p.m.  School Showcase featuring New Albany Students\nSaturday\, Feb. 23rd 8 p.m. Gala Performance featuring an Evening with Patti Lupone & Mandy Patinkin.\nSunday\, Feb. 24th 3 & 7 p.m. New Albany Shines! featuring talent from across our community.
LOCATION:McCoy Community Center for the Arts
UID:e.304.171
SEQUENCE:3
DTSTAMP:20260424T090947Z
URL:https://cm.newalbanychamber.com/events/details/mccoy-community-center-for-the-arts-opening-02-19-2008-171
END:VEVENT

END:VCALENDAR
