BEGIN:VCALENDAR
VERSION:2.0
PRODID:-//ChamberMaster//Event Calendar 2.0//EN
METHOD:PUBLISH
X-PUBLISHED-TTL:P3D
REFRESH-INTERVAL:P3D
CALSCALE:GREGORIAN
BEGIN:VEVENT
DTSTART:20090314T220000Z
DTEND:20090315T010000Z
X-MICROSOFT-CDO-ALLDAYEVENT:FALSE
SUMMARY:Meet the Artist
DESCRIPTION:Come out of the cold and warm yourself with culture and art!  On Saturday March 14th\, at 6pm New Albany Arts Council and Hayley Gallery bring you another "Meet The Artist" presentation. We will be featuring Carol Phillips Whitt (ceramics)\, Todd Camp(paintings) and the accomplished Scott Sadoff (pianist). They will be speaking and presenting their work to the community. Admission is free. Refreshments will be served.
X-ALT-DESC;FMTTYPE=text/html: Come out of the cold and warm yourself with culture and art!  On Saturday March 14th\, at 6pm New Albany Arts Council and Hayley Gallery bring you another "Meet The Artist" presentation. We will be featuring Carol Phillips Whitt (ceramics)\, Todd Camp(paintings) and the accomplished Scott Sadoff (pianist). They will be speaking and presenting their work to the community. Admission is free. Refreshments will be served. \n
LOCATION:Hayley Gallery 45 Second Street New Albany\, Oh 43054
UID:e.304.429
SEQUENCE:3
DTSTAMP:20260422T022607Z
URL:https://cm.newalbanychamber.com/events/details/meet-the-artist-03-14-2009-429
END:VEVENT

END:VCALENDAR
