BEGIN:VCALENDAR
VERSION:2.0
PRODID:-//ChamberMaster//Event Calendar 2.0//EN
METHOD:PUBLISH
X-PUBLISHED-TTL:P3D
REFRESH-INTERVAL:P3D
CALSCALE:GREGORIAN
BEGIN:VEVENT
DTSTART:20080426T140000Z
DTEND:20080426T160000Z
X-MICROSOFT-CDO-ALLDAYEVENT:FALSE
SUMMARY:Meet the Artist
DESCRIPTION:Children's book author Pete Barnes talks about his book about motorcycle legend Harley Davidson and answers your questions!  Recommended for upper elementary students and their parnets.  Light refreshments.
X-ALT-DESC;FMTTYPE=text/html:Children's book author Pete Barnes talks about his book about motorcycle legend Harley Davidson and answers your questions!  Recommended for upper elementary students and their parnets.  Light refreshments.
LOCATION:New Albany Branch Columbus Public Library\, Market Square
UID:e.304.223
SEQUENCE:3
DTSTAMP:20260422T185312Z
URL:https://cm.newalbanychamber.com/events/details/meet-the-artist-04-26-2008-223
END:VEVENT

END:VCALENDAR
