BEGIN:VCALENDAR
VERSION:2.0
PRODID:-//ChamberMaster//Event Calendar 2.0//EN
METHOD:PUBLISH
X-PUBLISHED-TTL:P3D
REFRESH-INTERVAL:P3D
CALSCALE:GREGORIAN
BEGIN:VEVENT
DTSTART:20090314T220000Z
DTEND:20090315T010000Z
X-MICROSOFT-CDO-ALLDAYEVENT:FALSE
SUMMARY:Meet the Artists
DESCRIPTION:Get up close and personal with ceramics artist Carrol Phillips-Witt\, painter Todd Camp and pianist Scott Sadoff ask they discuss their art and field your questions.  This adult only event is free of charge to the public.  Light refreshments and beverages.  Sponsored by New Albany Arts Council and Hayley Gallery
X-ALT-DESC;FMTTYPE=text/html:Get up close and personal with ceramics artist Carrol Phillips-Witt\, painter Todd Camp and pianist Scott Sadoff ask they discuss their art and field your questions.  This adult only event is free of charge to the public.  Light refreshments and beverages.  Sponsored by New Albany Arts Council and Hayley Gallery
LOCATION:Hayley Gallery\, 45 Second Street\, New Albany\, Oh 43054
UID:e.304.427
SEQUENCE:3
DTSTAMP:20260422T022500Z
URL:https://cm.newalbanychamber.com/events/details/meet-the-artists-03-14-2009-427
END:VEVENT

END:VCALENDAR
