BEGIN:VCALENDAR
VERSION:2.0
PRODID:-//ChamberMaster//Event Calendar 2.0//EN
METHOD:PUBLISH
X-PUBLISHED-TTL:P3D
REFRESH-INTERVAL:P3D
CALSCALE:GREGORIAN
BEGIN:VEVENT
DTSTART;VALUE=DATE:20091012
DTEND;VALUE=DATE:20091013
TRANSP:TRANSPARENT
X-MICROSOFT-CDO-ALLDAYEVENT:TRUE
SUMMARY:Meet the Candidates Forum 2009
DESCRIPTION:Meet the candidates for New Albany Village Council\, Plain Township Trustees and New-Albany Plain Local School Board on Monday\, October 12\, 2009. The reception and refreshments begins at 6:30pm and the program begins at 7pm. Kurt Ludlow from WBNS-10TV will moderate\, as well. Candidate's night will be hosted by Temple Beth Shalom on 5089 Johnstown Road in New Albany\, 43054.The candidates running for the Village Council are Shirli Billings\, Colleen Briscoe\, Chip Fellows\, Richard Justman\, Glyde Marsh\, and Sloan Spalding. The candidates running for the Board of Education are Laura Kohler\, Thomas Lammers\, Cheri Lehmann\, and Natalie Matt. And the candidates running for Plain Township Trustee are Sharon Cason-Adams\, Dave Ferguson\, Valerie Griffith\, David Olmstead\, and Bud Zappitelli.
X-ALT-DESC;FMTTYPE=text/html:<div>Meet the candidates for New Albany Village Council\, Plain Township Trustees and New-Albany Plain Local School Board on Monday\, October 12\, 2009. The reception and refreshments begins at 6:30pm and the program begins at 7pm. Kurt Ludlow from WBNS-10TV will moderate\, as well. Candidate's night will be hosted by Temple Beth Shalom on 5089 Johnstown Road in New Albany\, 43054.</div><div>The candidates running for the Village Council are Shirli Billings\, Colleen Briscoe\, Chip Fellows\, Richard Justman\, Glyde Marsh\, and Sloan Spalding. The candidates running for the Board of Education are Laura Kohler\, Thomas Lammers\, Cheri Lehmann\, and Natalie Matt. And the candidates running for Plain Township Trustee are Sharon Cason-Adams\, Dave Ferguson\, Valerie Griffith\, David Olmstead\, and Bud Zappitelli.</div>
LOCATION:
UID:e.304.508
SEQUENCE:3
DTSTAMP:20260421T160157Z
URL:https://cm.newalbanychamber.com/events/details/meet-the-candidates-forum-2009-10-12-2009-508
END:VEVENT

END:VCALENDAR
