BEGIN:VCALENDAR
VERSION:2.0
PRODID:-//ChamberMaster//Event Calendar 2.0//EN
METHOD:PUBLISH
X-PUBLISHED-TTL:P3D
REFRESH-INTERVAL:P3D
CALSCALE:GREGORIAN
BEGIN:VEVENT
DTSTART:20100613T223000Z
DTEND:20100618T003000Z
X-MICROSOFT-CDO-ALLDAYEVENT:FALSE
SUMMARY:MEGA SPORTS CAMP
DESCRIPTION:Mega Sports Camp is open to all kids Preschool age to 6th grade.  Elementary age kids can register to participate in the Basketball\, Soccer or Cheerleading Tracks and our preschoolers will get to try all 3.  In each track kids will learn drills\, play with a team and be coached by great leaders.  For more information or to register your child\, call NAFCON at 614-855-1921.
X-ALT-DESC;FMTTYPE=text/html:Mega Sports Camp is open to all kids Preschool age to 6th grade.  Elementary age kids can register to participate in the Basketball\, Soccer or Cheerleading Tracks and our preschoolers will get to try all 3.  In each track kids will learn drills\, play with a team and be coached by great leaders.  For more information or to register your child\, call NAFCON at 614-855-1921.
LOCATION:New Albany Nazarene 6000 Johnstown Road New Albany
UID:e.304.587
SEQUENCE:3
DTSTAMP:20260421T053234Z
URL:https://cm.newalbanychamber.com/events/details/mega-sports-camp-06-13-2010-587
END:VEVENT

END:VCALENDAR
