BEGIN:VCALENDAR
VERSION:2.0
PRODID:-//ChamberMaster//Event Calendar 2.0//EN
METHOD:PUBLISH
X-PUBLISHED-TTL:P3D
REFRESH-INTERVAL:P3D
CALSCALE:GREGORIAN
BEGIN:VEVENT
DTSTART;VALUE=DATE:20080801
DTEND;VALUE=DATE:20080802
TRANSP:TRANSPARENT
X-MICROSOFT-CDO-ALLDAYEVENT:TRUE
SUMMARY:Member Dues - Due Today
DESCRIPTION:Yearly Membership Dues - Due TodayReceive your FREE classified lisint in the 2008-09 Community Guide.Free website listing on website.Company referrals.
X-ALT-DESC;FMTTYPE=text/html:<div>Yearly Membership Dues - Due Today</div><div>Receive your FREE classified lisint in the 2008-09 Community Guide.</div><div>Free website listing on website.</div><div>Company referrals.</div>
LOCATION:
UID:e.304.240
SEQUENCE:3
DTSTAMP:20260422T143609Z
URL:https://cm.newalbanychamber.com/events/details/member-dues-due-today-08-01-2008-240
END:VEVENT

END:VCALENDAR
