BEGIN:VCALENDAR
VERSION:2.0
PRODID:-//ChamberMaster//Event Calendar 2.0//EN
METHOD:PUBLISH
X-PUBLISHED-TTL:P3D
REFRESH-INTERVAL:P3D
CALSCALE:GREGORIAN
BEGIN:VEVENT
DTSTART:20090212T140000Z
DTEND:20090212T140000Z
X-MICROSOFT-CDO-ALLDAYEVENT:FALSE
SUMMARY:Merchant Services Task Force meeting
DESCRIPTION:Merchant Services Task Force
X-ALT-DESC;FMTTYPE=text/html:<div>Merchant Services Task Force</div>
LOCATION:Tailfeathers Boutique31 N. High StreetNew Albany\, OhioChair of Merchant Services-Claire MarvinN.A. Shooting Range
UID:e.304.418
SEQUENCE:3
DTSTAMP:20260422T040424Z
URL:https://cm.newalbanychamber.com/events/details/merchant-services-task-force-meeting-02-12-2009-418
END:VEVENT

END:VCALENDAR
