BEGIN:VCALENDAR
VERSION:2.0
PRODID:-//ChamberMaster//Event Calendar 2.0//EN
METHOD:PUBLISH
X-PUBLISHED-TTL:P3D
REFRESH-INTERVAL:P3D
CALSCALE:GREGORIAN
BEGIN:VEVENT
DTSTART;VALUE=DATE:20080312
DTEND;VALUE=DATE:20080313
TRANSP:TRANSPARENT
X-MICROSOFT-CDO-ALLDAYEVENT:TRUE
SUMMARY:Merchant Services Task Force meeting
DESCRIPTION:Merchant Services Task Force meetingThis task force works on joint projects to promote the New Albany Retail Community.  Potential projects include joint marketing and special promotional events.
X-ALT-DESC;FMTTYPE=text/html:<div>Merchant Services Task Force meeting</div><div>This task force works on joint projects to promote the New Albany Retail Community.&nbsp\; Potential projects include joint marketing and special promotional events.</div>
LOCATION:Chamber Office220 Market StreetNew Albany
UID:e.304.179
SEQUENCE:3
DTSTAMP:20260422T202310Z
URL:https://cm.newalbanychamber.com/events/details/merchant-services-task-force-meeting-03-12-2008-179
END:VEVENT

END:VCALENDAR
