BEGIN:VCALENDAR
VERSION:2.0
PRODID:-//ChamberMaster//Event Calendar 2.0//EN
METHOD:PUBLISH
X-PUBLISHED-TTL:P3D
REFRESH-INTERVAL:P3D
CALSCALE:GREGORIAN
BEGIN:VEVENT
DTSTART;VALUE=DATE:20080320
DTEND;VALUE=DATE:20080321
TRANSP:TRANSPARENT
X-MICROSOFT-CDO-ALLDAYEVENT:TRUE
SUMMARY:Monthly Chamber Event-Breakfast
DESCRIPTION:Monthly Chamber Breakfast
X-ALT-DESC;FMTTYPE=text/html:<div>Monthly Chamber Breakfast</div>
LOCATION:Church of the Resurrection6300 E. Dublin Granville RoadNew Albany\, Ohio
UID:e.304.175
SEQUENCE:3
DTSTAMP:20260422T202351Z
URL:https://cm.newalbanychamber.com/events/details/monthly-chamber-event-breakfast-03-20-2008-175
END:VEVENT

END:VCALENDAR
