BEGIN:VCALENDAR
VERSION:2.0
PRODID:-//ChamberMaster//Event Calendar 2.0//EN
METHOD:PUBLISH
X-PUBLISHED-TTL:P3D
REFRESH-INTERVAL:P3D
CALSCALE:GREGORIAN
BEGIN:VEVENT
DTSTART:20110421T153000Z
DTEND:20110421T170000Z
X-MICROSOFT-CDO-ALLDAYEVENT:FALSE
SUMMARY:Monthly Chamber Luncheon
DESCRIPTION:Monthly Chamber Luncheon\n\n"Trends in Marketing Tools"\n\nWhere Should I Put my Money?\n\nWith guest speaker Michele Baker-Cuthbert\n\n\n\nThursday\, April 21st\n\n11:30 a.m.-1:00 p.m.\n\n\n\nNew Albany Links Golf Club\n\n7100 New Albany Links Dr.\n\n\n\nCost $17 Members\; $20 Guests
X-ALT-DESC;FMTTYPE=text/html:<span style="font-size: 14px"><strong>Monthly Chamber Luncheon<br />\n&quot\;Trends in Marketing Tools&quot\;<br />\nWhere Should I Put my Money?<br />\nWith guest speaker Michele Baker-Cuthbert</strong></span><br />\n<br />\nThursday\, April 21st<br />\n11:30 a.m.-1:00 p.m.<br />\n<br />\nNew Albany Links Golf Club<br />\n7100 New Albany Links Dr.<br />\n<br />\nCost $17 Members\; $20 Guests
LOCATION:New Albany Links Golf Club 7100 New Albany Links Dr.
UID:e.304.782
SEQUENCE:3
DTSTAMP:20260420T113308Z
URL:https://cm.newalbanychamber.com/events/details/monthly-chamber-luncheon-04-21-2011-782
END:VEVENT

END:VCALENDAR
