BEGIN:VCALENDAR
VERSION:2.0
PRODID:-//ChamberMaster//Event Calendar 2.0//EN
METHOD:PUBLISH
X-PUBLISHED-TTL:P3D
REFRESH-INTERVAL:P3D
CALSCALE:GREGORIAN
BEGIN:VEVENT
DTSTART:20110519T153000Z
DTEND:20110519T170000Z
X-MICROSOFT-CDO-ALLDAYEVENT:FALSE
SUMMARY:Monthly Chamber Luncheon
DESCRIPTION:May Monthly Chamber Luncehon\n\n	"How to Create and Sustain\n\n	A Postive Culture in your Business\n\n	\n\n	with Guest presenter - Lillian Zarzar of the Zarzar Group
X-ALT-DESC;FMTTYPE=text/html:<p>\n	<span style="font-size: 14px"><strong>May Monthly Chamber Luncehon<br />\n	&quot\;How to Create and Sustain<br />\n	A Postive Culture in your Business<br />\n	<br />\n	with Guest presenter - Lillian Zarzar of the Zarzar Group</strong></span><br />\n	<br />\n	&nbsp\;</p>\n
LOCATION:New Albany Branch Library Meeting Room 200 Market Street New Albany\, Ohio 43054
UID:e.304.785
SEQUENCE:3
DTSTAMP:20260420T101346Z
URL:https://cm.newalbanychamber.com/events/details/monthly-chamber-luncheon-05-19-2011-785
END:VEVENT

END:VCALENDAR
