BEGIN:VCALENDAR
VERSION:2.0
PRODID:-//ChamberMaster//Event Calendar 2.0//EN
METHOD:PUBLISH
X-PUBLISHED-TTL:P3D
REFRESH-INTERVAL:P3D
CALSCALE:GREGORIAN
BEGIN:VEVENT
DTSTART:20081016T153000Z
DTEND:20081016T153000Z
X-MICROSOFT-CDO-ALLDAYEVENT:FALSE
SUMMARY:Monthly Chamber Luncheon
DESCRIPTION:Monthly Chamber Luncheon"What is at Stake for Ohio Businesses in the 2008 Election?"with Guest Speaker from the Ohio ChamberKeith Lake\, Director of P.a.C.E.
X-ALT-DESC;FMTTYPE=text/html:<div><font size="2"><strong>Monthly Chamber Luncheon</strong></font></div><div><font size="2"><strong>&quot\;What is at Stake for Ohio Businesses in the 2008 Election?&quot\;</strong></font></div><div><font size="2"><strong>with Guest Speaker from the Ohio Chamber</strong></font></div><div><font size="2"><strong>Keith Lake\, Director of P.a.C.E.</strong></font></div>
LOCATION:Flanagan's Pub3001 Reynoldsburg-New Albany RoadGahanna\, Ohio 43230
UID:e.304.316
SEQUENCE:3
DTSTAMP:20260422T114911Z
URL:https://cm.newalbanychamber.com/events/details/monthly-chamber-luncheon-10-16-2008-316
END:VEVENT

END:VCALENDAR
