BEGIN:VCALENDAR
VERSION:2.0
PRODID:-//ChamberMaster//Event Calendar 2.0//EN
METHOD:PUBLISH
X-PUBLISHED-TTL:P3D
REFRESH-INTERVAL:P3D
CALSCALE:GREGORIAN
BEGIN:VEVENT
DTSTART:20101118T163000Z
DTEND:20101118T180000Z
X-MICROSOFT-CDO-ALLDAYEVENT:FALSE
SUMMARY:Monthly Chamber Luncheon
DESCRIPTION:November Monthly Luncheon\n\n	Guest Speaker:\n\n	Barbara Huff of the Joseph Group\n\n	New Albany Country Club\n\n	Thursday\, November 18\, 2010\n\n	11:30 - 1:00
X-ALT-DESC;FMTTYPE=text/html:<div>\n	<strong><span style="font-size: 14px">November&nbsp\;Monthly Luncheon<br />\n	Guest Speaker:<br />\n	Barbara Huff of the Joseph Group</span></strong></div>\n<p>\n	<strong><span style="font-size: 14px">New Albany Country Club</span></strong></p>\n<div>\n	<strong><span style="font-size: 14px">Thursday\, November 18\, 2010</span></strong></div>\n<div>\n	<strong><span style="font-size: 14px">11:30 - 1:00</span></strong></div>\n
LOCATION:New Albany Country Club One Club Lane New Albany\, Ohio
UID:e.304.682
SEQUENCE:3
DTSTAMP:20260420T205127Z
URL:https://cm.newalbanychamber.com/events/details/monthly-chamber-luncheon-11-18-2010-682
END:VEVENT

END:VCALENDAR
