BEGIN:VCALENDAR
VERSION:2.0
PRODID:-//ChamberMaster//Event Calendar 2.0//EN
METHOD:PUBLISH
X-PUBLISHED-TTL:P3D
REFRESH-INTERVAL:P3D
CALSCALE:GREGORIAN
BEGIN:VEVENT
DTSTART:20100218T163000Z
DTEND:20100218T180000Z
X-MICROSOFT-CDO-ALLDAYEVENT:FALSE
SUMMARY:Monthly Chamber meeting
DESCRIPTION:Monthly Chamber luncheon"From Invisible to Influential"Top 5 Ways to Make your First Impression - Your BestGuest Speaker\, Shelley Menduni\, Professional Imagery
X-ALT-DESC;FMTTYPE=text/html:<div><span style="font-size: x-small"><strong>Monthly Chamber luncheon</strong></span></div><div><span style="font-size: x-small"><strong>&quot\;From Invisible to Influential&quot\;</strong></span></div><div><span style="font-size: x-small"><strong>Top 5 Ways to Make your First Impression - Your Best</strong></span></div><div><span style="font-size: x-small"><strong>Guest Speaker\, Shelley Menduni\, Professional Imagery</strong></span></div>
LOCATION:New Albany Links Golf Club7100 New Albany Links Dr.New Albany\, Ohio
UID:e.304.556
SEQUENCE:3
DTSTAMP:20260421T102446Z
URL:https://cm.newalbanychamber.com/events/details/monthly-chamber-meeting-02-18-2010-556
END:VEVENT

END:VCALENDAR
