BEGIN:VCALENDAR
VERSION:2.0
PRODID:-//ChamberMaster//Event Calendar 2.0//EN
METHOD:PUBLISH
X-PUBLISHED-TTL:P3D
REFRESH-INTERVAL:P3D
CALSCALE:GREGORIAN
BEGIN:VEVENT
DTSTART:20100727T150000Z
DTEND:20100727T050000Z
X-MICROSOFT-CDO-ALLDAYEVENT:FALSE
SUMMARY:Monthly Chamber meeting
DESCRIPTION:The New Albany Chamber presents the July luncheon in partnership with The Gahanna Area Chamber and The Westerville Area Chamber of Commerce.Includes Lunch and a ticket to the BIA Parade of Homes
X-ALT-DESC;FMTTYPE=text/html:<div>The New Albany Chamber presents the July luncheon in partnership with The Gahanna Area Chamber and The Westerville Area Chamber of Commerce.</div><div>Includes Lunch and a ticket to the BIA Parade of Homes</div>
LOCATION:Ackerly Park at the Bia Parade of Homes. Just off Market Street\, New Albany.
UID:e.304.645
SEQUENCE:3
DTSTAMP:20260421T022414Z
URL:https://cm.newalbanychamber.com/events/details/monthly-chamber-meeting-07-27-2010-645
END:VEVENT

END:VCALENDAR
