BEGIN:VCALENDAR
VERSION:2.0
PRODID:-//ChamberMaster//Event Calendar 2.0//EN
METHOD:PUBLISH
X-PUBLISHED-TTL:P3D
REFRESH-INTERVAL:P3D
CALSCALE:GREGORIAN
BEGIN:VEVENT
DTSTART;VALUE=DATE:20100509
DTEND;VALUE=DATE:20100510
TRANSP:TRANSPARENT
X-MICROSOFT-CDO-ALLDAYEVENT:TRUE
SUMMARY:Mother's Day Service at Clearview Church
DESCRIPTION:You're invited to ClearView Church on Mother's Day\, May 9\, beginning at 10 am. Come and enjoy meeting new friends\, a great cup of coffee (free Caribou!)\, and be encouraged by meaningful music and an inspiring message from the Bible. On Mother's Day\, ClearView will also be providing free family portraits. So\, bring your mom! Invite some friends!ClearView Church meets weekly at New Albany High School in the Mini-Theater\, 7600 Fodor Road\,. For more information\, see www.clearviewgrace.com\, or call Pastor Andy at 614-578-0676.
X-ALT-DESC;FMTTYPE=text/html:<div>You're invited to ClearView Church on Mother's Day\, May 9\, beginning at 10 am. Come and enjoy meeting new friends\, a great cup of coffee (free Caribou!)\, and be encouraged by meaningful music and an inspiring message from the Bible. On Mother's Day\, ClearView will also be providing free family portraits. So\, bring your mom! Invite some friends!</div><div>ClearView Church meets weekly at New Albany High School in the Mini-Theater\, 7600 Fodor Road\,. For more information\, see <a href="http://www.clearviewgrace.com">www.clearviewgrace.com</a>\, or call Pastor Andy at 614-578-0676.</div>
LOCATION:
UID:e.304.647
SEQUENCE:3
DTSTAMP:20260421T053616Z
URL:https://cm.newalbanychamber.com/events/details/mother-s-day-service-at-clearview-church-05-09-2010-647
END:VEVENT

END:VCALENDAR
