BEGIN:VCALENDAR
VERSION:2.0
PRODID:-//ChamberMaster//Event Calendar 2.0//EN
METHOD:PUBLISH
X-PUBLISHED-TTL:P3D
REFRESH-INTERVAL:P3D
CALSCALE:GREGORIAN
BEGIN:VEVENT
DTSTART:20080430T230000Z
DTEND:20080501T020000Z
X-MICROSOFT-CDO-ALLDAYEVENT:FALSE
SUMMARY:Movie and Drinks with NAWN
DESCRIPTION:Join the New Albany Women's Network as they take in a movie at Easton Town Center.  "Baby Mama" starring Tina Fey and Amy Poehler.  Time will be announced\, but plan on the 7:00 time frame.  After the movie they will head to Bar Louie for cocktails and discussion about the movie. Please RSVP to Ally McHenry at: 656-1481 or theplaidcrab@mac.com by April 23rd.
X-ALT-DESC;FMTTYPE=text/html:Join the New Albany Women's Network as they take in a movie at Easton Town Center.  "Baby Mama" starring Tina Fey and Amy Poehler.  Time will be announced\, but plan on the 7:00 time frame.  After the movie they will head to Bar Louie for cocktails and discussion about the movie. Please RSVP to Ally McHenry at: 656-1481 or theplaidcrab@mac.com by April 23rd.
LOCATION:Easton Town Center Movie Theatre
UID:e.304.222
SEQUENCE:3
DTSTAMP:20260422T190818Z
URL:https://cm.newalbanychamber.com/events/details/movie-and-drinks-with-nawn-04-30-2008-222
END:VEVENT

END:VCALENDAR
