BEGIN:VCALENDAR
VERSION:2.0
PRODID:-//ChamberMaster//Event Calendar 2.0//EN
METHOD:PUBLISH
X-PUBLISHED-TTL:P3D
REFRESH-INTERVAL:P3D
CALSCALE:GREGORIAN
BEGIN:VEVENT
DTSTART:20100602T230000Z
DTEND:20100603T010000Z
X-MICROSOFT-CDO-ALLDAYEVENT:FALSE
SUMMARY:MS Orchestra Concert
DESCRIPTION:
X-ALT-DESC;FMTTYPE=text/html:
LOCATION:McCoy Center for the Arts
UID:e.304.602
SEQUENCE:3
DTSTAMP:20260421T034410Z
URL:https://cm.newalbanychamber.com/events/details/ms-orchestra-concert-06-02-2010-602
END:VEVENT

END:VCALENDAR
