BEGIN:VCALENDAR
VERSION:2.0
PRODID:-//ChamberMaster//Event Calendar 2.0//EN
METHOD:PUBLISH
X-PUBLISHED-TTL:P3D
REFRESH-INTERVAL:P3D
CALSCALE:GREGORIAN
BEGIN:VEVENT
DTSTART;VALUE=DATE:20080720
DTEND;VALUE=DATE:20080721
TRANSP:TRANSPARENT
X-MICROSOFT-CDO-ALLDAYEVENT:TRUE
SUMMARY:Music at Lambton Park
DESCRIPTION:Music at Lambton Park featuring the Colubus Jazz Orchestra.Picnic - 5 p.m.Free Concert - 6 p.m.Sponsored by the New Albany Signature Series
X-ALT-DESC;FMTTYPE=text/html:<div>Music at Lambton Park featuring the Colubus Jazz Orchestra.</div><div>Picnic - 5 p.m.</div><div>Free Concert - 6 p.m.</div><div>Sponsored by the New Albany Signature Series</div>
LOCATION:Lambton ParkNew Albany\, OH 43054
UID:e.304.197
SEQUENCE:3
DTSTAMP:20260422T143834Z
URL:https://cm.newalbanychamber.com/events/details/music-at-lambton-park-07-20-2008-197
END:VEVENT

END:VCALENDAR
