BEGIN:VCALENDAR
VERSION:2.0
PRODID:-//ChamberMaster//Event Calendar 2.0//EN
METHOD:PUBLISH
X-PUBLISHED-TTL:P3D
REFRESH-INTERVAL:P3D
CALSCALE:GREGORIAN
BEGIN:VEVENT
DTSTART:20100310T233000Z
DTEND:20100311T013000Z
X-MICROSOFT-CDO-ALLDAYEVENT:FALSE
SUMMARY:Music from the Heart
DESCRIPTION:Music From the Heart is a concert performance by New Albany students to raise money for\n\nThe Heart Center at Nationwide Childrens Hospital
X-ALT-DESC;FMTTYPE=text/html:Music From the Heart is a concert performance by New Albany students to raise money for\n<br>The Heart Center at Nationwide Childrens Hospital
LOCATION:McCoy Center for the Arts
UID:e.304.579
SEQUENCE:3
DTSTAMP:20260421T085449Z
URL:https://cm.newalbanychamber.com/events/details/music-from-the-heart-03-10-2010-579
END:VEVENT

END:VCALENDAR
