BEGIN:VCALENDAR
VERSION:2.0
PRODID:-//ChamberMaster//Event Calendar 2.0//EN
METHOD:PUBLISH
X-PUBLISHED-TTL:P3D
REFRESH-INTERVAL:P3D
CALSCALE:GREGORIAN
BEGIN:VEVENT
DTSTART;VALUE=DATE:20100425
DTEND;VALUE=DATE:20100426
TRANSP:TRANSPARENT
X-MICROSOFT-CDO-ALLDAYEVENT:TRUE
SUMMARY:Music Moves You 4 Miles Faster
DESCRIPTION:Come be part of the party!  New Albany Walking Club member\, Noelle Snyder\, is the race director for this exciting 4 Mile race walk/run to benefit New Albany Symphony!  Great prizes\, chip timed and fun for the whole family!
X-ALT-DESC;FMTTYPE=text/html:Come be part of the party!  New Albany Walking Club member\, Noelle Snyder\, is the race director for this exciting 4 Mile race walk/run to benefit New Albany Symphony!  Great prizes\, chip timed and fun for the whole family!
LOCATION:Market Square
UID:e.304.472
SEQUENCE:3
DTSTAMP:20260421T091551Z
URL:https://cm.newalbanychamber.com/events/details/music-moves-you-4-miles-faster-04-25-2010-472
END:VEVENT

END:VCALENDAR
