BEGIN:VCALENDAR
VERSION:2.0
PRODID:-//ChamberMaster//Event Calendar 2.0//EN
METHOD:PUBLISH
X-PUBLISHED-TTL:P3D
REFRESH-INTERVAL:P3D
CALSCALE:GREGORIAN
BEGIN:VEVENT
DTSTART;VALUE=DATE:20091210
DTEND;VALUE=DATE:20091211
TRANSP:TRANSPARENT
X-MICROSOFT-CDO-ALLDAYEVENT:TRUE
SUMMARY:NA Schools Nutcracker Performance
DESCRIPTION:All of ACT I (cast A dancers in the party scene\, battle scene and snow scene) will be performing at the McCoy Community Center for the Arts on Thursday\, December 10th. This performance is for some of the New Albany School students. The time is to be dertermined\, however it will be during the school day. For more information call 614-939-2245.
X-ALT-DESC;FMTTYPE=text/html:<div>All of ACT I (cast A dancers in the party scene\, battle scene and snow scene) will be performing at the McCoy Community Center for the Arts on Thursday\, December 10th. This performance is for some of the New&nbsp\;Albany School students. The time is to be dertermined\, however it will be during the school day. For more information call 614-939-2245.</div>
LOCATION:
UID:e.304.537
SEQUENCE:3
DTSTAMP:20260421T130353Z
URL:https://cm.newalbanychamber.com/events/details/na-schools-nutcracker-performance-12-10-2009-537
END:VEVENT

END:VCALENDAR
