BEGIN:VCALENDAR
VERSION:2.0
PRODID:-//ChamberMaster//Event Calendar 2.0//EN
METHOD:PUBLISH
X-PUBLISHED-TTL:P3D
REFRESH-INTERVAL:P3D
CALSCALE:GREGORIAN
BEGIN:VEVENT
DTSTART:20110312T140000Z
DTEND:20110312T190000Z
X-MICROSOFT-CDO-ALLDAYEVENT:FALSE
SUMMARY:NAAC Seussical Jr. Auditions
DESCRIPTION:The New Albany Arts Council will hold auditions for children ages 8-15 at Broadway Bound Dance Centre. Audition packets can be found at www.naarts.org\, or email naacjuniormusical@live.com for more information. Some may be asked to return for callbacks the same day at 3:00 pm.
X-ALT-DESC;FMTTYPE=text/html:The New Albany Arts Council will hold auditions for children ages 8-15 at Broadway Bound Dance Centre. Audition packets can be found at www.naarts.org\, or email naacjuniormusical@live.com for more information. Some may be asked to return for callbacks the same day at 3:00 pm.
LOCATION:Broadway Bound Dance Centre
UID:e.304.761
SEQUENCE:3
DTSTAMP:20260420T130724Z
URL:https://cm.newalbanychamber.com/events/details/naac-seussical-jr-auditions-03-12-2011-761
END:VEVENT

END:VCALENDAR
