BEGIN:VCALENDAR
VERSION:2.0
PRODID:-//ChamberMaster//Event Calendar 2.0//EN
METHOD:PUBLISH
X-PUBLISHED-TTL:P3D
REFRESH-INTERVAL:P3D
CALSCALE:GREGORIAN
BEGIN:VEVENT
DTSTART;VALUE=DATE:20100523
DTEND;VALUE=DATE:20100524
TRANSP:TRANSPARENT
X-MICROSOFT-CDO-ALLDAYEVENT:TRUE
SUMMARY:NABC Spring Recital
DESCRIPTION:Join the New Albany Ballet Company for their annual Spring Recital onMay 23rd of 2010. The performance will be held at 11:00 am\, 1:30 pm\, 4:00 pm\, and 6:30 pm. For more information call 614-939-9058.
X-ALT-DESC;FMTTYPE=text/html:<div><div>Join the&nbsp\;New Albany Ballet Company for their annual&nbsp\;Spring Recital onMay 23rd&nbsp\;of 2010. The performance will be held at 11:00 am\, 1:30 pm\, 4:00 pm\, and 6:30 pm. For more information call 614-939-9058.</div></div>
LOCATION:
UID:e.304.534
SEQUENCE:3
DTSTAMP:20260421T053133Z
URL:https://cm.newalbanychamber.com/events/details/nabc-spring-recital-05-23-2010-534
END:VEVENT

END:VCALENDAR
