BEGIN:VCALENDAR
VERSION:2.0
PRODID:-//ChamberMaster//Event Calendar 2.0//EN
METHOD:PUBLISH
X-PUBLISHED-TTL:P3D
REFRESH-INTERVAL:P3D
CALSCALE:GREGORIAN
BEGIN:VEVENT
DTSTART;VALUE=DATE:20100523
DTEND;VALUE=DATE:20100524
TRANSP:TRANSPARENT
X-MICROSOFT-CDO-ALLDAYEVENT:TRUE
SUMMARY:NABC Spring Recitals
DESCRIPTION:The 776 students of the New Albany Ballet Company will take the stage.
X-ALT-DESC;FMTTYPE=text/html:The 776 students of the New Albany Ballet Company will take the stage.
LOCATION:Jeanne B McCoy Center for the Arts
UID:e.304.651
SEQUENCE:3
DTSTAMP:20260421T053120Z
URL:https://cm.newalbanychamber.com/events/details/nabc-spring-recitals-05-23-2010-651
END:VEVENT

END:VCALENDAR
