BEGIN:VCALENDAR
VERSION:2.0
PRODID:-//ChamberMaster//Event Calendar 2.0//EN
METHOD:PUBLISH
X-PUBLISHED-TTL:P3D
REFRESH-INTERVAL:P3D
CALSCALE:GREGORIAN
BEGIN:VEVENT
DTSTART:20100415T150000Z
DTEND:20100416T020000Z
X-MICROSOFT-CDO-ALLDAYEVENT:FALSE
SUMMARY:NAHS Athletic Boosters Dinner Night: Don Patron's Mexican Restaurant and Cantina
DESCRIPTION:You Don't have to Cook\, We don't have to Mow!\n\nEat at Don Patron\, support New Albany Athletics and the Stadium Turf Project
X-ALT-DESC;FMTTYPE=text/html:You Don't have to Cook\, We don't have to Mow!\n<br>Eat at Don Patron\, support New Albany Athletics and the Stadium Turf Project\n<br>\n<br>
LOCATION:9745 Johnstown rd New Albany\, OH 43054
UID:e.304.629
SEQUENCE:3
DTSTAMP:20260421T072414Z
URL:https://cm.newalbanychamber.com/events/details/nahs-athletic-boosters-dinner-night-don-patron-s-mexican-restaurant-and-cantina-04-15-2010-629
END:VEVENT

END:VCALENDAR
