BEGIN:VCALENDAR
VERSION:2.0
PRODID:-//ChamberMaster//Event Calendar 2.0//EN
METHOD:PUBLISH
X-PUBLISHED-TTL:P3D
REFRESH-INTERVAL:P3D
CALSCALE:GREGORIAN
BEGIN:VEVENT
DTSTART;VALUE=DATE:20080829
DTEND;VALUE=DATE:20080830
TRANSP:TRANSPARENT
X-MICROSOFT-CDO-ALLDAYEVENT:TRUE
SUMMARY:NAHS Marching Band Alumini Night
DESCRIPTION:The New Albany High School Marching Band invites band alumini to participate in New Albany HS Alumini night during the football game on Friday\, August 29\, 2008. Alumini will perform in the stands during the game and in a special halftime with the current NAHS Band. Wear your favortie maroon and gold attire and bring your instrument and money for dinner. Schedule for Alumini Band on August 29th...5:00pm Rehersal on Eagle Field6:00pm Dinner in Courtyard7:00pm NAHS Band Lines up for Pre-Game7:15pm Pre-Game7:30pm Kick-Off8:30pm (approx) Halftime Show with Alumini Band To Register contact Darren Falk by email at dfalk@new-albany.k12.oh.us or call by phone at 614.413.8395.
X-ALT-DESC;FMTTYPE=text/html:<div>The New Albany High School Marching Band invites band alumini to participate in New Albany HS Alumini night during the football game on Friday\, August 29\, 2008. Alumini will perform in the stands during the game and in a special halftime with the current NAHS Band. Wear your favortie maroon and gold attire and bring your instrument and money for dinner.</div><div>&nbsp\;</div><div>Schedule for Alumini Band on August 29th...</div><div>5:00pm Rehersal on Eagle Field</div><div>6:00pm Dinner in Courtyard</div><div>7:00pm NAHS Band Lines up for Pre-Game</div><div>7:15pm Pre-Game</div><div>7:30pm Kick-Off</div><div>8:30pm (approx) Halftime Show with Alumini Band</div><div>&nbsp\;</div><div><strong>To Register contact Darren Falk by email at </strong><a href="mailto:dfalk@new-albany.k12.oh.us"><strong>dfalk@new-albany.k12.oh.us</strong></a><strong> or call by phone at 614.413.8395.</strong></div>
LOCATION:
UID:e.304.255
SEQUENCE:3
DTSTAMP:20260422T131331Z
URL:https://cm.newalbanychamber.com/events/details/nahs-marching-band-alumini-night-08-29-2008-255
END:VEVENT

END:VCALENDAR
