BEGIN:VCALENDAR
VERSION:2.0
PRODID:-//ChamberMaster//Event Calendar 2.0//EN
METHOD:PUBLISH
X-PUBLISHED-TTL:P3D
REFRESH-INTERVAL:P3D
CALSCALE:GREGORIAN
BEGIN:VEVENT
DTSTART:20250412T170000Z
DTEND:20250412T180000Z
X-MICROSOFT-CDO-ALLDAYEVENT:FALSE
SUMMARY:NAMS Theatre Presents Annie Jr.
DESCRIPTION:Leapin' Lizards! Based on the popular comic strip and adapted from the Tony Award-winning Best Musical\, The New Albany Middle School Theatre Department will perform Annie Jr.\, April 11-13\, 2025 at the Jeanne B. McCoy Community Center for the Arts.\n\n\n\nWith equal measures of pluck and positivity\, little orphan Annie charms everyone's hearts\, despite a next-to-nothing start in 1930's New York City. She is determined to find her parents\, who abandoned her years ago on the doorstep of an orphanage run by the cruel Miss Hannigan. Annie dreams of being reunited with her parents and escapes the orphanage to try and find them. Annie discovers a new family in billionaire Oliver Warbucks\, his personal secretary\, Grace Farrell\, and a lovable mutt named Sandy. With a beloved book and score by Tony Award-winners Thomas Meehan\, Charles Strouse and Martin Charnin\, Annie Jr. delivers the classic story for all ages that will leave you grinning from ear to ear.
X-ALT-DESC;FMTTYPE=text/html:Leapin&rsquo\; Lizards! Based on the popular comic strip and adapted from the Tony Award-winning Best Musical\, The New Albany Middle School Theatre Department will perform Annie Jr.\, April 11-13\, 2025 at the Jeanne B. McCoy Community Center for the Arts.<br />\n<br />\nWith equal measures of pluck and positivity\, little orphan Annie charms everyone&rsquo\;s hearts\, despite a next-to-nothing start in 1930&rsquo\;s New York City. She is determined to find her parents\, who abandoned her years ago on the doorstep of an orphanage run by the cruel Miss Hannigan. Annie dreams of being reunited with her parents and escapes the orphanage to try and find them. Annie discovers a new family in billionaire Oliver Warbucks\, his personal secretary\, Grace Farrell\, and a lovable mutt named Sandy. With a beloved book and score by Tony Award-winners Thomas Meehan\, Charles Strouse and Martin Charnin\, Annie Jr. delivers the classic story for all ages that will leave you grinning from ear to ear.
LOCATION:Jeanne B. McCoy Community Center for the Arts 100 E. Dublin Granville Rd New Albany\, OH 43054
UID:e.304.20292
SEQUENCE:3
DTSTAMP:20260420T111519Z
URL:https://cm.newalbanychamber.com/events/details/nams-theatre-presents-annie-jr-20292
END:VEVENT

END:VCALENDAR
